BEGIN:VCALENDAR
VERSION:2.0
PRODID:-//Bürgergemeinschaft Wülferode - ECPv6.15.20//NONSGML v1.0//EN
CALSCALE:GREGORIAN
METHOD:PUBLISH
X-WR-CALNAME:Bürgergemeinschaft Wülferode
X-ORIGINAL-URL:https://buergergemeinschaft-wuelferode.de
X-WR-CALDESC:Veranstaltungen für Bürgergemeinschaft Wülferode
REFRESH-INTERVAL;VALUE=DURATION:PT1H
X-Robots-Tag:noindex
X-PUBLISHED-TTL:PT1H
BEGIN:VTIMEZONE
TZID:Europe/Berlin
BEGIN:DAYLIGHT
TZOFFSETFROM:+0100
TZOFFSETTO:+0200
TZNAME:CEST
DTSTART:20250330T010000
END:DAYLIGHT
BEGIN:STANDARD
TZOFFSETFROM:+0200
TZOFFSETTO:+0100
TZNAME:CET
DTSTART:20251026T010000
END:STANDARD
BEGIN:DAYLIGHT
TZOFFSETFROM:+0100
TZOFFSETTO:+0200
TZNAME:CEST
DTSTART:20260329T010000
END:DAYLIGHT
BEGIN:STANDARD
TZOFFSETFROM:+0200
TZOFFSETTO:+0100
TZNAME:CET
DTSTART:20261025T010000
END:STANDARD
BEGIN:DAYLIGHT
TZOFFSETFROM:+0100
TZOFFSETTO:+0200
TZNAME:CEST
DTSTART:20270328T010000
END:DAYLIGHT
BEGIN:STANDARD
TZOFFSETFROM:+0200
TZOFFSETTO:+0100
TZNAME:CET
DTSTART:20271031T010000
END:STANDARD
END:VTIMEZONE
BEGIN:VEVENT
DTSTART;TZID=Europe/Berlin:20260103T163000
DTEND;TZID=Europe/Berlin:20260103T170000
DTSTAMP:20260420T182406
CREATED:20260101T144500Z
LAST-MODIFIED:20260101T144507Z
UID:2355-1767457800-1767459600@buergergemeinschaft-wuelferode.de
SUMMARY:Sternsinger
DESCRIPTION:Die Sternsinger kommen zur „Alten Schule“ und singen vor ihr für einen guten Zweck. \n\n\n\nUm Spenden für das Motto „Schule statt Fabrik – Sternsingen gegen Kinderarbeirt“ wird gebeten.
URL:https://buergergemeinschaft-wuelferode.de/event/sternsinger/
LOCATION:Alte Schule\, Kirchbichler Straße 6\, Hannover\, 30539\, Germany
CATEGORIES:Veranstaltung
ATTACH;FMTTYPE=image/jpeg:https://buergergemeinschaft-wuelferode.de/wp-content/uploads/2026/01/2019_Sternsinger_90x45-e1767278645269.jpg
END:VEVENT
BEGIN:VEVENT
DTSTART;TZID=Europe/Berlin:20260110T170000
DTEND;TZID=Europe/Berlin:20260110T200000
DTSTAMP:20260420T182406
CREATED:20260101T145149Z
LAST-MODIFIED:20260101T145155Z
UID:2358-1768064400-1768075200@buergergemeinschaft-wuelferode.de
SUMMARY:Neujahrsgrillen der Feuerwehr
DESCRIPTION:In guter Tradition veranstaltet die Freiwillige Feuerwehr wieder ihr Neujahrsgrillen.Lassen wir uns die Bratwurst gut schmecken.
URL:https://buergergemeinschaft-wuelferode.de/event/neujahrsgrillen-der-feuerwehr/
LOCATION:Freiwillige Feuerwehr Wülferode\, Wilhelm-Rusterberg-Platz 1\, Hannover\, 30539\, Germany
CATEGORIES:Veranstaltung
ATTACH;FMTTYPE=image/png:https://buergergemeinschaft-wuelferode.de/wp-content/uploads/2025/04/Feuerwehr_event.png
END:VEVENT
BEGIN:VEVENT
DTSTART;TZID=Europe/Berlin:20260113T190000
DTEND;TZID=Europe/Berlin:20260113T210000
DTSTAMP:20260420T182406
CREATED:20260101T145842Z
LAST-MODIFIED:20260101T145849Z
UID:2360-1768330800-1768338000@buergergemeinschaft-wuelferode.de
SUMMARY:Vortrag und Dialog: (Einbruchs-) Prävention - was rät die Polizei
DESCRIPTION:In Nachbars Garten schleicht ein Fremder und interessiert sich für die Gegebenheiten oder es klingelt an der Haustür und jemand gibt sich als vermeintlicher Mitarbeiter einer Telekommunikationsfirma aus. Auch der sogenannte „Enkeltrick“ ist leider keine Seltenheit. Was ist hier zu tun\, wie reagiert man richtig? Antworten auf diese und andere Fragen sowie Empfehlungen erhalten wir von unserem Kontaktbeamten der Polizeistation Bemerode.
URL:https://buergergemeinschaft-wuelferode.de/event/vortrag-und-dialog-einbruchs-praevention-was-raet-die-polizei/
LOCATION:Alte Schule\, Kirchbichler Straße 6\, Hannover\, 30539\, Germany
CATEGORIES:Veranstaltung
ATTACH;FMTTYPE=image/jpeg:https://buergergemeinschaft-wuelferode.de/wp-content/uploads/2026/01/polizei-scaled-e1767279491794.jpg
END:VEVENT
BEGIN:VEVENT
DTSTART;TZID=Europe/Berlin:20260124T193000
DTEND;TZID=Europe/Berlin:20260124T230000
DTSTAMP:20260420T182406
CREATED:20260101T151416Z
LAST-MODIFIED:20260101T151423Z
UID:2363-1769283000-1769295600@buergergemeinschaft-wuelferode.de
SUMMARY:Learning to Fly - Storytellers
DESCRIPTION:Künstler wie Bob Dylan\, Tom Waits\, BruceSpringsteen\, Paul Simon und Tom Petty sindRockpoeten. Mit ihren Songs haben sie Musikgeschichtegeschrieben und ihre Werke haben Generationenvon Singer/Songwritern den Blueprintzu eigenen Erfolgen gegeben. \n\n\n\nMit ihrem Programm „Storytellers“ schaffenMartin Hauke und Juan Schmid einen aufrichtigenTribut an diese außergewöhnlichen Songschreiber.Teils in eigenen Arrangements\, dochimmer nah am Original\, spielen und erzählen diezwei Musiker vom Schaffen dieser und andererWeltkünstler\, deren Leben und der Story hinterdem Song. \n\n\n\nKosten: 5€ pro Person
URL:https://buergergemeinschaft-wuelferode.de/event/learning-to-fly-storytellers/
LOCATION:Vorhalle der Mehrzweckhalle Wülferode\, Kirchbichler Straße 6\, Hannover\, 30539\, Germany
CATEGORIES:Veranstaltung
ATTACH;FMTTYPE=image/webp:https://buergergemeinschaft-wuelferode.de/wp-content/uploads/2026/01/Storytellers-e1767280416367.webp
END:VEVENT
BEGIN:VEVENT
DTSTART;TZID=Europe/Berlin:20260130T190000
DTEND;TZID=Europe/Berlin:20260130T220000
DTSTAMP:20260420T182406
CREATED:20260101T151723Z
LAST-MODIFIED:20260101T151729Z
UID:2366-1769799600-1769810400@buergergemeinschaft-wuelferode.de
SUMMARY:Gesellschaftsspieleabend
DESCRIPTION:Wir treffen uns zu einem Spieleabend in der Alten Schule. Alle sind mit ihren mitgebrachten Spielen (gerne auch mitgebrachte Knabbersachen) herzlich willkommen. Wir freuen uns auf einen geselligen Abend mit Euch.
URL:https://buergergemeinschaft-wuelferode.de/event/gesellschaftsspieleabend-8/
LOCATION:Alte Schule\, Kirchbichler Straße 6\, Hannover\, 30539\, Germany
CATEGORIES:Veranstaltung
ATTACH;FMTTYPE=image/webp:https://buergergemeinschaft-wuelferode.de/wp-content/uploads/2025/08/Gesellschaftsspiel.webp
END:VEVENT
END:VCALENDAR